BEGIN:VCALENDAR
VERSION:2.0
PRODID:-//Tukios.com/
BEGIN:VEVENT
UID:20f8e0ed-0964-48f2-ad1a-ee4ff60875b5@www.collisoncareyhand.com
DTSTAMP:20260420T084449Z
DTSTART:20260419T150000Z
DTEND:20260419T180000Z
SUMMARY:Visitation
DESCRIPTION:
URL:https://www.collisoncareyhand.com/obituaries/terrie-duncan-2026
LOCATION: 1148 E Plant St  Winter Garden FL 34787
GEO:28.5694643;-81.5677257
END:VEVENT
END:VCALENDAR